BEGIN:VCALENDAR
VERSION:2.0
PRODID:-//Shenzhen Institute of Advanced Technology, Chinese Academy of Sciences - ECPv5.9.0//NONSGML v1.0//EN
CALSCALE:GREGORIAN
METHOD:PUBLISH
X-WR-CALNAME:Shenzhen Institute of Advanced Technology, Chinese Academy of Sciences
X-ORIGINAL-URL:https://siat-sz.edu.cn
X-WR-CALDESC:Events for Shenzhen Institute of Advanced Technology, Chinese Academy of Sciences
BEGIN:VTIMEZONE
TZID:UTC
BEGIN:STANDARD
TZOFFSETFROM:+0000
TZOFFSETTO:+0000
TZNAME:UTC
DTSTART:2026-04-20 09:22:150101T000000
END:STANDARD
END:VTIMEZONE
BEGIN:VEVENT
DTSTART;TZID=UTC:20260420T012215
DTEND;TZID=UTC:DTSTAMP:20260420T214227Z
CREATED:20260420T092215Z
LAST-MODIFIED:20260420T092312Z
UID:4CF93EC5-4C87-4614-AF90-34372491E0CC@www.xaqj
SUMMARY:脑围术期和帕金森病的神经调控及研究进展
DESCRIPTION:【报告人】：冯霞教授、陈玲教授【会议主题】：脑围术期和帕金森病的神经调控及研究进展【报告时间】：2026年4月20日（周一） 下午15:30-17:30【报告语言】：中文【主持】：郭腾飞【报告地点】：卫光A座303
URL:https://www.szbl.ac.cn/info/1017/10182.htm
LOCATION:
ATTACH;FMTTYPE=image/jpeg:https://www.szbl.ac.cnnull
END:VEVENT
END:VCALENDAR