BEGIN:VCALENDAR
VERSION:2.0
PRODID:-//Shenzhen Institute of Advanced Technology, Chinese Academy of Sciences - ECPv5.9.0//NONSGML v1.0//EN
CALSCALE:GREGORIAN
METHOD:PUBLISH
X-WR-CALNAME:Shenzhen Institute of Advanced Technology, Chinese Academy of Sciences
X-ORIGINAL-URL:https://siat-sz.edu.cn
X-WR-CALDESC:Events for Shenzhen Institute of Advanced Technology, Chinese Academy of Sciences
BEGIN:VTIMEZONE
TZID:UTC
BEGIN:STANDARD
TZOFFSETFROM:+0000
TZOFFSETTO:+0000
TZNAME:UTC
DTSTART:2024-06-19 16:42:560101T000000
END:STANDARD
END:VTIMEZONE
BEGIN:VEVENT
DTSTART;TZID=UTC:20240619T084256
DTEND;TZID=UTC:DTSTAMP:20260422T001140Z
CREATED:20201117T000000Z
LAST-MODIFIED:20240619T164256Z
UID:1539907B-F68F-448C-83B6-0F3679A28E38@www.xaqj
SUMMARY:深圳湾实验室2020年秋冬校园招聘会
DESCRIPTION:深圳湾实验室（生命信息与生物医药广东省实验室）是广东省委、省政府以培育创建国家实验室、打造国家实验室“预备队”为目标主导启动的第二批广东省实验室之一。由中国工程院院士詹启敏担任实验室主任，全国人大外事...
URL:https://www.szbl.ac.cn/info/1140/5135.htm
LOCATION:
ATTACH;FMTTYPE=image/jpeg:https://www.szbl.ac.cnnull
END:VEVENT
END:VCALENDAR