BEGIN:VCALENDAR
VERSION:2.0
PRODID:-//Shenzhen Institute of Advanced Technology, Chinese Academy of Sciences - ECPv5.9.0//NONSGML v1.0//EN
CALSCALE:GREGORIAN
METHOD:PUBLISH
X-WR-CALNAME:Shenzhen Institute of Advanced Technology, Chinese Academy of Sciences
X-ORIGINAL-URL:https://siat-sz.edu.cn
X-WR-CALDESC:Events for Shenzhen Institute of Advanced Technology, Chinese Academy of Sciences
BEGIN:VTIMEZONE
TZID:UTC
BEGIN:STANDARD
TZOFFSETFROM:+0000
TZOFFSETTO:+0000
TZNAME:UTC
DTSTART:2024-06-19 16:42:570101T000000
END:STANDARD
END:VTIMEZONE
BEGIN:VEVENT
DTSTART;TZID=UTC:20240619T084257
DTEND;TZID=UTC:DTSTAMP:20260422T032914Z
CREATED:20211103T000000Z
LAST-MODIFIED:20250326T160431Z
UID:5EFEDD17-0D61-4C48-8CAA-725342F13B9F@www.xaqj
SUMMARY:深圳湾实验室外国人来华工作许可和工作类居留许可办理指南
DESCRIPTION:一、申请流程（首次）（一）境外办理路径           1. 申请人接受Offer后，在入境前至少 2 个月邮件联系人事部，邮箱：lild@szbl.ac.cn，以获取申请《外国人工作许可通知书》或《外国...
URL:https://www.szbl.ac.cn/info/1140/5136.htm
LOCATION:
ATTACH;FMTTYPE=image/jpeg:https://www.szbl.ac.cnnull
END:VEVENT
END:VCALENDAR