BEGIN:VCALENDAR
VERSION:2.0
PRODID:-//Shenzhen Institute of Advanced Technology, Chinese Academy of Sciences - ECPv5.9.0//NONSGML v1.0//EN
CALSCALE:GREGORIAN
METHOD:PUBLISH
X-WR-CALNAME:Shenzhen Institute of Advanced Technology, Chinese Academy of Sciences
X-ORIGINAL-URL:https://siat-sz.edu.cn
X-WR-CALDESC:Events for Shenzhen Institute of Advanced Technology, Chinese Academy of Sciences
BEGIN:VTIMEZONE
TZID:UTC
BEGIN:STANDARD
TZOFFSETFROM:+0000
TZOFFSETTO:+0000
TZNAME:UTC
DTSTART:2024-12-07 14:18:140101T000000
END:STANDARD
END:VTIMEZONE
BEGIN:VEVENT
DTSTART;TZID=UTC:20241207T061814
DTEND;TZID=UTC:DTSTAMP:20260419T212503Z
CREATED:20240919T000000Z
LAST-MODIFIED:20241230T173045Z
UID:861F80FA-CCA7-4195-A5B2-9474AACB748C@www.xaqj
SUMMARY:结核杆菌与宿主相互作用机制及转化应用研究
DESCRIPTION:主讲人：戈宝学 教授报告主题：结核杆菌与宿主相互作用机制及转化应用研究时间：2024年9月19日 周四 15:30-16:30讲座方式：线下会议地点：高科A座8楼803会议室语言：中文主持人：陈美欣 特聘研究员
URL:https://www.szbl.ac.cn/info/1017/7926.htm
LOCATION:
ATTACH;FMTTYPE=image/jpeg:https://www.szbl.ac.cnnull
END:VEVENT
END:VCALENDAR