BEGIN:VCALENDAR
VERSION:2.0
PRODID:-//Shenzhen Institute of Advanced Technology, Chinese Academy of Sciences - ECPv5.9.0//NONSGML v1.0//EN
CALSCALE:GREGORIAN
METHOD:PUBLISH
X-WR-CALNAME:Shenzhen Institute of Advanced Technology, Chinese Academy of Sciences
X-ORIGINAL-URL:https://siat-sz.edu.cn
X-WR-CALDESC:Events for Shenzhen Institute of Advanced Technology, Chinese Academy of Sciences
BEGIN:VTIMEZONE
TZID:UTC
BEGIN:STANDARD
TZOFFSETFROM:+0000
TZOFFSETTO:+0000
TZNAME:UTC
DTSTART:2024-12-07 14:18:340101T000000
END:STANDARD
END:VTIMEZONE
BEGIN:VEVENT
DTSTART;TZID=UTC:20241207T061834
DTEND;TZID=UTC:DTSTAMP:20260423T010229Z
CREATED:20231127T000000Z
LAST-MODIFIED:20241230T144631Z
UID:60BBAC12-BAF0-49AA-9713-288309DBD353@www.xaqj
SUMMARY:第一届大湾区前沿光学显微成像技术讲习班举办通知
DESCRIPTION:为促进光学显微成像技术的共享与交流，深圳湾实验室生物影像平台将于2023年11月27日-12月3日举办首届大湾区前沿生物显微成像技术讲习班。此次讲习班为线下开展，面向国内外高校、科研院所以及生物医药企业招收学员，...
URL:https://www.szbl.ac.cn/info/1017/7948.htm
LOCATION:
ATTACH;FMTTYPE=image/jpeg:https://www.szbl.ac.cnnull
END:VEVENT
END:VCALENDAR