BEGIN:VCALENDAR
VERSION:2.0
PRODID:-//Shenzhen Institute of Advanced Technology, Chinese Academy of Sciences - ECPv5.9.0//NONSGML v1.0//EN
CALSCALE:GREGORIAN
METHOD:PUBLISH
X-WR-CALNAME:Shenzhen Institute of Advanced Technology, Chinese Academy of Sciences
X-ORIGINAL-URL:https://siat-sz.edu.cn
X-WR-CALDESC:Events for Shenzhen Institute of Advanced Technology, Chinese Academy of Sciences
BEGIN:VTIMEZONE
TZID:UTC
BEGIN:STANDARD
TZOFFSETFROM:+0000
TZOFFSETTO:+0000
TZNAME:UTC
DTSTART:2025-01-13 12:55:080101T000000
END:STANDARD
END:VTIMEZONE
BEGIN:VEVENT
DTSTART;TZID=UTC:20250113T045508
DTEND;TZID=UTC:DTSTAMP:20260422T135717Z
CREATED:20250113T125508Z
LAST-MODIFIED:20250113T125637Z
UID:1BB1DB71-1D0C-41EC-8980-864652331472@www.xaqj
SUMMARY:Inflammation digital quantification: from integrated devices to precision medicine of chronic diseases
DESCRIPTION:【报告人】刘国珍教授【会议主题】Inflammation digital quantification: from integrated devices to precision medicine of chronic diseases【主持人】李芬芳（特聘研究员）【会议时间】2025年1月13日(周一) 14:00-15:00【会议地点】高科创新中心A座8楼803会议室【报告语言】英 
URL:https://www.szbl.ac.cn/info/1017/8588.htm
LOCATION:
ATTACH;FMTTYPE=image/jpeg:https://www.szbl.ac.cnnull
END:VEVENT
END:VCALENDAR